BEGIN:VCALENDAR
VERSION:2.0
PRODID:-//eventon.com NONSGML v1.0//EN
CALSCALE:GREGORIAN
METHOD:PUBLISH
BEGIN:VEVENT
UID:69e9041492ff6
DTSTAMP:20260422T172332Z
DTSTART:20200527T171500Z
DTEND:20200527T191500Z
LOCATION:
SUMMARY:A vilÃ¡g kÃ¶rtÃ¡ncai
DESCRIPTION:A KormÃ¡ny 46/2020. (III.16.) Korm. rendelete alapjÃ¡n a MOM Ku
 lturÃ¡lis KÃ¶zpont Nonprofit Kft tagintÃ©zmÃ©nyei\,  valamint az Ã¼zemeltet
 Ã©sÃ©ben Ã¡llÃ³ telephelyek\,  mint kÃ¶zmÅ±velÅ‘dÃ©si intÃ©zmÃ©nyek pillana
 tnyilag lÃ¡togatÃ¡si tilalom alatt Ã¡llnak. A vilÃ¡g kÃ¶rtÃ¡ncai elmarad. â
 €”â€” VÃ¡logatÃ¡s a vilÃ¡g nÃ©peinek legszebb kÃ¶rtÃ¡ncaibÃ³l. BalkÃ¡ni\,  
 breton\,  Ã­r\,  izraeli\,  hazai\,  Ã©s a vilÃ¡g minden tÃ¡jÃ¡rÃ³l szÃ¡rma
 zÃ³ nÃ©ptÃ¡ncok\, [..]\nhttps://momkult.hu/events/a-vilag-kortancai-15/
URL:https://momkult.hu/events/a-vilag-kortancai-15/
END:VEVENT
END:VCALENDAR