BEGIN:VCALENDAR
VERSION:2.0
PRODID:-//eventon.com NONSGML v1.0//EN
CALSCALE:GREGORIAN
METHOD:PUBLISH
BEGIN:VEVENT
UID:69e901f7771e1
DTSTAMP:20260422T171431Z
DTSTART:20200513T171500Z
DTEND:20200513T191500Z
LOCATION:
SUMMARY:A világ körtáncai
DESCRIPTION:A Kormány 46/2020. (III.16.) Korm. rendelete alapján a MOM Ku
 lturális Központ Nonprofit Kft tagintézményei\,  valamint az üzemeltet
 ésében álló telephelyek\,  mint közművelődési intézmények pillana
 tnyilag látogatási tilalom alatt állnak. &#8212;&#8211; Válogatás a vi
 lág népeinek legszebb körtáncaiból. Balkáni\,  breton\,  ír\,  izrae
 li\,  hazai\,  és a világ minden tájáról származó néptáncok\,  val
 amint szakrális és meditációs[..]\nhttps://momkult.hu/events/a-vilag-ko
 rtancai-14/
URL:https://momkult.hu/events/a-vilag-kortancai-14/
END:VEVENT
END:VCALENDAR