BEGIN:VCALENDAR
VERSION:2.0
PRODID:-//eventon.com NONSGML v1.0//EN
CALSCALE:GREGORIAN
METHOD:PUBLISH
BEGIN:VEVENT
UID:69e903d527d08
DTSTAMP:20260422T172229Z
DTSTART:20200429T171500Z
DTEND:20200429T191500Z
LOCATION:
SUMMARY:A világ körtáncai
DESCRIPTION:A Kormány 46/2020. (III.16.) Korm. rendelete alapján a MOM Ku
 lturális Központ Nonprofit Kft tagintézményei\,  valamint az üzemeltet
 ésében álló telephelyek\,  mint közművelődési intézmények pillana
 tnyilag látogatási tilalom alatt állnak. A világ körtáncai elmarad. &
 #8212;&#8212; Válogatás a világ népeinek legszebb körtáncaiból. Balk
 áni\,  breton\,  ír\,  izraeli\,  hazai\,  és a világ minden tájáról
  származó néptáncok\, [..]\nhttps://momkult.hu/events/a-vilag-kortancai
 -13/
URL:https://momkult.hu/events/a-vilag-kortancai-13/
END:VEVENT
END:VCALENDAR