BEGIN:VCALENDAR
VERSION:2.0
PRODID:-//eventon.com NONSGML v1.0//EN
CALSCALE:GREGORIAN
METHOD:PUBLISH
BEGIN:VEVENT
UID:69e94b9dca9e3
DTSTAMP:20260422T222845Z
DTSTART:20200212T181500Z
DTEND:20200212T201500Z
LOCATION:
SUMMARY:A világ körtáncai
DESCRIPTION:Válogatás a világ népeinek legszebb körtáncaiból. Balká
 ni\,  breton\,  ír\,  izraeli\,  hazai\,  és a világ minden tájáról s
 zármazó néptáncok\,  valamint szakrális és meditációs táncok\,  mi
 ndig más összeállításban. Női csoport\,  partner és előképzettség
  nem szükséges. Minden lépést együtt tanulunk meg. Örömteli együttl
 ét\,  egészségmegőrző mozgás. Idősebbeknek is ajánlott. Bármikor l
 ehet csatlakozni. A táncot[..]\nhttps://momkult.hu/events/a-vilag-kortanca
 i-3-2/
URL:https://momkult.hu/events/a-vilag-kortancai-3-2/
END:VEVENT
END:VCALENDAR