BEGIN:VCALENDAR
VERSION:2.0
PRODID:-//eventon.com NONSGML v1.0//EN
CALSCALE:GREGORIAN
METHOD:PUBLISH
BEGIN:VEVENT
UID:69e8dcab752a9
DTSTAMP:20260422T143523Z
DTSTART:20200820T190000Z
DTEND:20200820T213000Z
LOCATION:
SUMMARY:Az illúzió mesterei - 2020
DESCRIPTION:Az előadás új időpontban\,  2020. 08. 20-án kerül megrend
 ezésre. (eredeti időpont: 2020. 03. 19.\,  pótelőadás: 2020. 08.20. 20
 :00) A Kormány 46/2020. (III.16.) Korm. rendelete alapján a MOM Kulturál
 is Központ Nonprofit Kft tagintézményei\,  valamint az üzemeltetésébe
 n álló telephelyek\,  mint közművelődési intézmények pillanatnyilag
  látogatási tilalom alatt állnak. New York\,  Peking\,  Dubai\,  Las[..]
 \nhttps://momkult.hu/events/az-illuzio-mesterei-2020-16/
URL:https://momkult.hu/events/az-illuzio-mesterei-2020-16/
END:VEVENT
END:VCALENDAR