BEGIN:VCALENDAR
VERSION:2.0
PRODID:-//eventon.com NONSGML v1.0//EN
CALSCALE:GREGORIAN
METHOD:PUBLISH
BEGIN:VEVENT
UID:69e93b0095c95
DTSTAMP:20260422T211752Z
DTSTART:20200303T190000Z
DTEND:20200303T210000Z
LOCATION:
SUMMARY:Hogyan NE dögöljünk meg? | Laár András önálló estje
DESCRIPTION:A rutinosabbak azért ezt ügyesen el tudják odázni\,  Laár 
 Andrásnak viszont\,  jó ötletei vannak ebben a témában&#8230; Az előa
 dás életvédelmi\,  mentálhigiéniás\,  megőrülésgátló szaktanács
 okkal szolgál a érdeklődőknek a buddhizmus végtelen kincsestárából 
 szemezgetve. Laár András az előadás végén gyógyító zenével ajánd
 ékozza meg a hallgatóságot.\nhttps://momkult.hu/events/hogyan-ne-dogolju
 nk-meg-laar-andras-onallo-estje/
URL:https://momkult.hu/events/hogyan-ne-dogoljunk-meg-laar-andras-onallo-estje/
END:VEVENT
END:VCALENDAR