BEGIN:VCALENDAR
VERSION:2.0
PRODID:-//eventon.com NONSGML v1.0//EN
CALSCALE:GREGORIAN
METHOD:PUBLISH
BEGIN:VEVENT
UID:69e936f224099
DTSTAMP:20260422T210034Z
DTSTART:20200301T103000Z
DTEND:20200301T113000Z
LOCATION:
SUMMARY:Hangszerek vilÃ¡ga
DESCRIPTION:BalÃ¡zs JÃ¡nos Kossuth-dÃ­jas zongoramÅ±vÃ©sz hangszerbemutatÃ³
  koncertje gyerekeknek. A koncert sorÃ¡n kerÃ¼lnek Ã¡tadÃ¡sra a Cziffra GyÃ
 ¶rgy FesztivÃ¡l &#8222;ZenemanÃ³&#8221; rajzpÃ¡lyÃ¡zatÃ¡nak dÃ­jai\,  a nye
 rtesek rajzaibÃ³l kÃ©szÃ¼lt pÃ¡rna-figurÃ¡k.\nhttps://momkult.hu/events/han
 gszerekvilaga/
URL:https://momkult.hu/events/hangszerekvilaga/
END:VEVENT
END:VCALENDAR