BEGIN:VCALENDAR
VERSION:2.0
PRODID:-//eventon.com NONSGML v1.0//EN
CALSCALE:GREGORIAN
METHOD:PUBLISH
BEGIN:VEVENT
UID:69e94d1c80b8d
DTSTAMP:20260422T223508Z
DTSTART:20200211T100000Z
DTEND:20200211T110000Z
LOCATION:
SUMMARY:Mosó Masa Mosódája | Miskolci Csodamalom Bábszínház
DESCRIPTION:Mosó Masa mosodájában meséli el Sompolygó\,  a kedves rók
 alány csodálatos történetét\,  melyből megtudhatjuk\,  hogyan jutott 
 el a Kerek Erdőből az Óperenciás Tengeren át a Mesék Országútján a
 z Aranyvárosba\,  s hogyan lett tündérkirálynő. Utazása során termé
 szetesen számtalan kalandot élt át: találkozott a Járkáló Kastéllya
 l\,  a feledékeny Vicsor bábival\,  s elvarázsolt manókkal\, [..]\nhttp
 s://momkult.hu/events/momkult-gyerekszinhaz-ovodas-berlet/
URL:https://momkult.hu/events/momkult-gyerekszinhaz-ovodas-berlet/
END:VEVENT
END:VCALENDAR