BEGIN:VCALENDAR
VERSION:2.0
PRODID:-//eventon.com NONSGML v1.0//EN
CALSCALE:GREGORIAN
METHOD:PUBLISH
BEGIN:VEVENT
UID:69e9391fd43b1
DTSTAMP:20260422T210951Z
DTSTART:20200228T193000Z
DTEND:20200228T213000Z
LOCATION:
SUMMARY:Intermezzo | Hegyvidéki Smooth Jazz Klub
DESCRIPTION:A korábban Jazzy Dalverseny &#8211; győztes együttes a sajá
 t kompozíciók mellett\,  neves hazai és külföldi előadók saját feld
 olgozású dalait is játssza. Zenéjük nem csak a jazzrajongók számára
  befogadható. Jellegzetes dallamviláguk intelligens és jól átgondolt\,
   ugyanakkor energikus és improvizatív is egyben. Röviden úgy jellemezh
 etjük: modern groove\,  dallamos zenei témák és improvizáció.[..]\nht
 tps://momkult.hu/events/intermezzo-hegyvideki-smooth-jazz-klub/
URL:https://momkult.hu/events/intermezzo-hegyvideki-smooth-jazz-klub/
END:VEVENT
END:VCALENDAR