BEGIN:VCALENDAR
VERSION:2.0
PRODID:-//eventon.com NONSGML v1.0//EN
CALSCALE:GREGORIAN
METHOD:PUBLISH
BEGIN:VEVENT
UID:69e89e72cd4ad
DTSTAMP:20260422T100954Z
DTSTART:20201024T180000Z
DTEND:20201024T200000Z
LOCATION:
SUMMARY:Legyen úgy! | Dés László koncertje
DESCRIPTION:Az előadás új időpontban\,  2020. 10. 24 -én kerül megren
 dezésre. (eredeti időpont: 2020. 05. 28.\,  pótelőadás: 2020. 10.24.) 
 A MOMkult a Zsidó Művészeti Napok programsorozatnaknak terembérleti kon
 strukcióban helyszínt biztosít\,  a jegyekkel kapcsolatban intézkedési
  joga nincs. Az alábbiakban közöljük Dr. Vadas Vera a ZsiMü igazgató
 jának közleményét: Lehet sokan meglepődnek\,  amikor e közlemény[..]
 \nhttps://momkult.hu/events/legyen-ugy-des-laszlo-koncertje/
URL:https://momkult.hu/events/legyen-ugy-des-laszlo-koncertje/
END:VEVENT
END:VCALENDAR