BEGIN:VCALENDAR
VERSION:2.0
PRODID:-//eventon.com NONSGML v1.0//EN
CALSCALE:GREGORIAN
METHOD:PUBLISH
BEGIN:VEVENT
UID:69e88e6202b32
DTSTAMP:20260422T090122Z
DTSTART:20201111T190000Z
DTEND:20201111T210000Z
LOCATION:
SUMMARY:Mindig az a perc | MAO Big Band koncert
DESCRIPTION:Az előadás új időpontban\,  2020. 11. 11-én kerül megrend
 ezésre. (eredeti időpont: 2020. 05. 26.\,  pótelőadás: 2020. 11.11.) Z
 SIMÜ közleménye: Tisztelt Közönségünk! A 2020. november 9-én bejele
 ntett korlátozások értelmében minden idei évre tervezett előadásunka
 t jövő év tavaszára halasztjuk. Folyamatosan dolgozunk\,  hogy minél e
 lőbb tájékoztathassuk Önöket a konkrét időpontokról\,  helyszínekr
 ől! A megváltott[..]\nhttps://momkult.hu/events/majus-ejszakan-modern-art
 -orchestra-koncert/
URL:https://momkult.hu/events/majus-ejszakan-modern-art-orchestra-koncert/
END:VEVENT
END:VCALENDAR