BEGIN:VCALENDAR
VERSION:2.0
PRODID:-//eventon.com NONSGML v1.0//EN
CALSCALE:GREGORIAN
METHOD:PUBLISH
BEGIN:VEVENT
UID:69e8543c525a8
DTSTAMP:20260422T045316Z
DTSTART:20210509T170000Z
DTEND:20210509T190000Z
LOCATION:
SUMMARY:Imagine | Fenegyerekek\,  akik megváltoztatták a világot!
DESCRIPTION:Az előadás új időpontban\,  2021. 12. 22-én kerül megrend
 ezésre. (eredeti időpont: 2021. 05. 09.\,  pótelőadás: 2021. 12.22.) Z
 SIMÜ közleménye: Tisztelt Közönségünk\,  Barátaink! Az Imagine | Fe
 negyerekek\,  akik megváltoztatták a világot! című Horgas Eszter konce
 rtünk új időpontja 2021. december 22. A már megváltott jegyek az új i
 dőpontban is érvényesek! További információ:[..]\nhttps://momkult.hu/
 events/imagine-fenegyerekek-akik-megvaltoztattak-a-vilagot/
URL:https://momkult.hu/events/imagine-fenegyerekek-akik-megvaltoztattak-a-vilagot/
END:VEVENT
END:VCALENDAR