BEGIN:VCALENDAR
VERSION:2.0
PRODID:-//eventon.com NONSGML v1.0//EN
CALSCALE:GREGORIAN
METHOD:PUBLISH
BEGIN:VEVENT
UID:69e9249344754
DTSTAMP:20260422T194211Z
DTSTART:20200311T190000Z
DTEND:20200311T210000Z
LOCATION:
SUMMARY:Al Ghaoui Hesna | TraumÃ¡bÃ³l Ã©pÃ­tkezni
DESCRIPTION:A KormÃ¡ny 46/2020. (III.16.) Korm. rendelete alapjÃ¡n a MOM Ku
 lturÃ¡lis KÃ¶zpont Nonprofit Kft tagintÃ©zmÃ©nyei\,  valamint az Ã¼zemeltet
 Ã©sÃ©ben Ã¡llÃ³ telephelyek\,  mint kÃ¶zmÅ±velÅ‘dÃ©si intÃ©zmÃ©nyek pillana
 tnyilag lÃ¡togatÃ¡si tilalom alatt Ã¡llnak. Hogyan lehet nehÃ©zsÃ©gbÅ‘l erÅ
 ‘t kovÃ¡csolni? Hogyan lehet felvenni a harcot az Ã©let kiszÃ¡mÃ­thatatlan 
 fordulataival\,  Ã©s ahelyett\,  hogy folyton az esemÃ©nyek Ã¡ldozatÃ¡nak Ã
 ©reznÃ©nk magunkat\, [..]\nhttps://momkult.hu/events/al-ghaoui-hesna-trauma
 bol-epitkezni/
URL:https://momkult.hu/events/al-ghaoui-hesna-traumabol-epitkezni/
END:VEVENT
END:VCALENDAR