BEGIN:VCALENDAR
VERSION:2.0
PRODID:-//eventon.com NONSGML v1.0//EN
CALSCALE:GREGORIAN
METHOD:PUBLISH
BEGIN:VEVENT
UID:69e8764d14cd7
DTSTAMP:20260422T071837Z
DTSTART:20201127T190000Z
DTEND:20201127T210000Z
LOCATION:
SUMMARY:MÃ©rÅ‘ LÃ¡szlÃ³ | Az Ã©sz segÃ©digÃ©i
DESCRIPTION:ProdukciÃ³ kÃ¶zlemÃ©nye: Kedves JegyvÃ¡sÃ¡rlÃ³ink! Mindannyiunk
  biztonsÃ¡gÃ¡t figyelembe vÃ©ve Ãºgy dÃ¶ntÃ¶ttÃ¼nk\,  hogy a helyszÃ­ni elÅ
 ‘adÃ¡s helyett csak az Online kÃ¶zvetÃ­tÃ©st tartjuk meg. Online elÅ‘adÃ¡su
 nk az alÃ¡bbi linken keresztÃ¼l lesz az adott idÅ‘pontban elÃ©rhetÅ‘\,  egy
  hÃ©tig visszanÃ©zhetÅ‘: https://tsu.hu/mero-laszlo-az-esz-segedigei-live-s
 treaming/ TovÃ¡bbi informÃ¡ciÃ³ a TSU email cÃ­mÃ©n:Â info@tsu.hu &#8212;&#
 8212;&#8212;&#8212;&#8212;&#8212;&#8212;&#8212;&#8212;&#8212;&#8212;&#8212;
 &#8212;&#8212;&#8212;&#8212;&#8212;&#8212;&#8212;&#8212;&#8212;&#8212;&#821
 2;&#8212;&#8212;&#8212;&#8212;&#8212;&#8212;&#8212;&#8212;&#8212;&#8212;&#8
 212;&#8212;&#8212;&#8212; MÃ©rÅ‘ LÃ¡szlÃ³: Az Ã©sz segÃ©digÃ©i A tudomÃ¡ny[
 ..]\nhttps://momkult.hu/events/mero-laszlo-az-esz-segedigei/
URL:https://momkult.hu/events/mero-laszlo-az-esz-segedigei/
END:VEVENT
END:VCALENDAR