BEGIN:VCALENDAR
VERSION:2.0
PRODID:-//eventon.com NONSGML v1.0//EN
CALSCALE:GREGORIAN
METHOD:PUBLISH
BEGIN:VEVENT
UID:69e80ca05afb7
DTSTAMP:20260421T234744Z
DTSTART:20211012T170000Z
DTEND:20211012T190000Z
LOCATION:
SUMMARY:Iliza | The Forever Tour
DESCRIPTION:Az előadás új időpontban\,  2021. 10. 12-én kerül megrend
 ezésre. (eredeti időpont: 2020. 05. 04.\,  pótelőadás: 2021. 10.12.) I
 liza Shlesinger először lép fel Budapesten\,  The Forever Tour című ú
 j\,  nemzetközi turnéjának keretében! 2019-ben jelent meg ötödik Netf
 lix stand up special-je UnVeiled címmel\,  amiben a házassághoz vezető 
 göröngyös útjáról mesél. Korábbi specialjei\, [..]\nhttps://momkult
 .hu/events/iliza-the-forever-tour/
URL:https://momkult.hu/events/iliza-the-forever-tour/
END:VEVENT
END:VCALENDAR