BEGIN:VCALENDAR
VERSION:2.0
PRODID:-//eventon.com NONSGML v1.0//EN
CALSCALE:GREGORIAN
METHOD:PUBLISH
BEGIN:VEVENT
UID:69e8ed97b82e4
DTSTAMP:20260422T154735Z
DTSTART:20200729T180000Z
DTEND:20200729T200000Z
LOCATION:
SUMMARY:Kalmus FeliciÃ¡n | No2 LemezbemutatÃ³ koncert
DESCRIPTION:Az elÅ‘adÃ¡s Ãºj idÅ‘pontban\,  2020. 07. 29 -Ã©n kerÃ¼l megren
 dezÃ©sre. (eredeti idÅ‘pont: 2020. 05. 08.\,  pÃ³telÅ‘adÃ¡s: 2020. 07.29.) 
 A KormÃ¡ny 46/2020. (III.16.) Korm. rendelete alapjÃ¡n a MOM KulturÃ¡lis KÃ
 ¶zpont Nonprofit Kft tagintÃ©zmÃ©nyei\,  valamint az Ã¼zemeltetÃ©sÃ©ben Ã¡l
 lÃ³ telephelyek\,  mint kÃ¶zmÅ±velÅ‘dÃ©si intÃ©zmÃ©nyek pillanatnyilag lÃ¡t
 ogatÃ¡si tilalom alatt Ã¡llnak. A koncert Ãºj idÅ‘pontban kerÃ¼l[..]\nhttps
 ://momkult.hu/events/kalmus-felician-no2-lemezbemutato-koncert/
URL:https://momkult.hu/events/kalmus-felician-no2-lemezbemutato-koncert/
END:VEVENT
END:VCALENDAR