BEGIN:VCALENDAR
VERSION:2.0
PRODID:-//eventon.com NONSGML v1.0//EN
CALSCALE:GREGORIAN
METHOD:PUBLISH
BEGIN:VEVENT
UID:69e94bd19cde2
DTSTAMP:20260422T222937Z
DTSTART:20200208T190000Z
DTEND:20200208T210000Z
LOCATION:
SUMMARY:Operett Gála | Király Színház
DESCRIPTION:A Király Színház műsorában népszerű bécsi és budapesti
  operettszerzők műveinek melódiái csendülnek fel az ország ének- és
  színművészei tolmácsolásában. A Gála különlegessége az áriák k
 özötti\,  úgynevezett „interaktív-narráció”. Segítségégükkel 
 a nézők megismerkedhetnek az operett &#8211; mint műfaj &#8211; kialakul
 ásának történetével. Megtudhatják\,  hogy mit mondott Puccini Lehár 
 Ferencnek\,  amikor először látta a[..]\nhttps://momkult.hu/events/opere
 tt-gala-kiraly-szinhaz/
URL:https://momkult.hu/events/operett-gala-kiraly-szinhaz/
END:VEVENT
END:VCALENDAR