BEGIN:VCALENDAR
VERSION:2.0
PRODID:-//eventon.com NONSGML v1.0//EN
CALSCALE:GREGORIAN
METHOD:PUBLISH
BEGIN:VEVENT
UID:69e9743cc66ec
DTSTAMP:20260423T012204Z
DTSTART:20200130T103000Z
DTEND:20200130T111500Z
LOCATION:
SUMMARY:Babakoncert
DESCRIPTION:A gyermekek zenei fejlesztése nemcsak zenei tehetségük kibon
 takoztatását szolgálja\,  hanem a két agyfélteke harmonikus fejlődés
 ét is\,  ami által érzékennyé\,  kreatívvá\,  kitartóvá\,  fegyelm
 ezetté\,  intelligensebbekké válnak\,  befogadóbbak lesznek az őket é
 rt hatásokkal szemben. Napjainkban egyre több kutatás foglalkozik a gyer
 mekek korai zenei fejlesztésének hatásával. A magzat minden pillanatát
  áthatja édesanyja szívverésének lüktetése\, [..]\nhttps://momkult.h
 u/events/babakoncert-januar-30/
URL:https://momkult.hu/events/babakoncert-januar-30/
END:VEVENT
END:VCALENDAR