BEGIN:VCALENDAR
VERSION:2.0
PRODID:-//eventon.com NONSGML v1.0//EN
CALSCALE:GREGORIAN
METHOD:PUBLISH
BEGIN:VEVENT
UID:69e8da615afdf
DTSTAMP:20260422T142537Z
DTSTART:20200823T093000Z
DTEND:20200823T113000Z
LOCATION:
SUMMARY:Az illúzió mesterei - 2020
DESCRIPTION:Az előadás új időpontban\,  2020. 08. 23-án kerül megrend
 ezésre. (eredeti időpont: 2020. 03. 22.\,  pótelőadás: 2020. 08.23.) A
  Kormány 46/2020. (III.16.) Korm. rendelete alapján a MOM Kulturális Kö
 zpont Nonprofit Kft tagintézményei\,  valamint az üzemeltetésében áll
 ó telephelyek\,  mint közművelődési intézmények pillanatnyilag láto
 gatási tilalom alatt állnak. New York\,  Peking\,  Dubai\,  Las Vegas\, [
 ..]\nhttps://momkult.hu/events/az-illuzio-mesterei-2020-15/
URL:https://momkult.hu/events/az-illuzio-mesterei-2020-15/
END:VEVENT
END:VCALENDAR