BEGIN:VCALENDAR
VERSION:2.0
PRODID:-//eventon.com NONSGML v1.0//EN
CALSCALE:GREGORIAN
METHOD:PUBLISH
BEGIN:VEVENT
UID:69e9712e1336a
DTSTAMP:20260423T010902Z
DTSTART:20200114T190000Z
DTEND:20200114T201500Z
LOCATION:
SUMMARY:Lyukasóra klub
DESCRIPTION:Közreműködők: Szabó T. Anna József Attila-díjas költő\
 ,  író\,  műfordító Kiss Judit Ágnes József Attila- díjas költő\,
   író\,  irodalomtanár Lator László\,  a Nemzet Művésze\,  Kossuth- 
 díjas költő\,  műfordító\,  esszéista Várady Szabolcs Kossuth-díja
 s költő\,  műfordító\,  szerkesztő Ferencz Győző József Attila-dij
 as költő\,  irodalomtörténész\,  műfordító moderátor: Várady Szab
 olcs\nhttps://momkult.hu/events/lyukasora-klub-11/
URL:https://momkult.hu/events/lyukasora-klub-11/
END:VEVENT
END:VCALENDAR