BEGIN:VCALENDAR
VERSION:2.0
PRODID:-//eventon.com NONSGML v1.0//EN
CALSCALE:GREGORIAN
METHOD:PUBLISH
BEGIN:VEVENT
UID:69e8b39abd016
DTSTAMP:20260422T114010Z
DTSTART:20200914T180000Z
DTEND:20200914T200000Z
LOCATION:
SUMMARY:Mérő László | A vágy logikája
DESCRIPTION:Az előadás új időpontban\,  2020. 09. 14-én kerül megrend
 ezésre. (eredeti időpont: 2020. 05. 18.\,  pótelőadás: 2020. 09.14.) A
  vágy titokzatos logikáját a legjobban a játékelmélet segítségével
  érthetjük meg – ez a váratlanul sokoldalúnak bizonyult elmélet nemc
 sak a gazdasági és a biológiai egyensúly létrejöttét magyarázta meg
 \,  hanem a lelki egyensúly természetéről[..]\nhttps://momkult.hu/event
 s/mero-laszlo-a-vagy-logikaja/
URL:https://momkult.hu/events/mero-laszlo-a-vagy-logikaja/
END:VEVENT
END:VCALENDAR