BEGIN:VCALENDAR
VERSION:2.0
PRODID:-//eventon.com NONSGML v1.0//EN
CALSCALE:GREGORIAN
METHOD:PUBLISH
BEGIN:VEVENT
UID:69e8c807455cd
DTSTAMP:20260422T130719Z
DTSTART:20200908T180000Z
DTEND:20200908T193000Z
LOCATION:
SUMMARY:Müller Péter-est | Lélekemelés\,  a nő misztériuma
DESCRIPTION:A nő misztériuma. Feltöltjük a lelkét tartalommal. Értsü
 k meg önmagunkat és a világot! Müller Péter a magyar ezoterikus irodal
 om mestere\,  aki előadásain értékes gondolatokkal ajándékozza meg a 
 közönséget és lényével sajátos közösségi élményt teremt. Hogyan
  lehet az életet művészi fokra fejleszteni\,  megérteni önmagunkat és
  a világot? A mindannyiunkat egyformán érintő[..]\nhttps://momkult.hu/e
 vents/muller-peter-est-lelekemeles-a-no-miszteriuma/
URL:https://momkult.hu/events/muller-peter-est-lelekemeles-a-no-miszteriuma/
END:VEVENT
END:VCALENDAR