BEGIN:VCALENDAR
VERSION:2.0
PRODID:-//eventon.com NONSGML v1.0//EN
CALSCALE:GREGORIAN
METHOD:PUBLISH
BEGIN:VEVENT
UID:69e971771fb6c
DTSTAMP:20260423T011015Z
DTSTART:20191230T170000Z
DTEND:20191230T183000Z
LOCATION:
SUMMARY:Hot Jazz Band | ElÅ‘szilveszteri koncert
DESCRIPTION:Az 1920-as Ã©s â€™40-es Ã©vek jazzmuzsikÃ¡jÃ¡nak kedvelÅ‘i egyÃ
 ¼tt bÃºcsÃºztathatjÃ¡k az Ã³Ã©vet. A Hot Jazz Band elÅ‘szilveszteri koncert
 jÃ©n visszatekint az esemÃ©nyekben gazdag Ã©vre. RepertoÃ¡rjukban szerepel 
 egy vÃ¡logatÃ¡s a zenekar klarinÃ©tosÃ¡nak\,  Fodor LÃ¡szlÃ³nak szÃ³lÃ³konc
 ertjÃ©bÅ‘l\,  a gyerekeknek szÃ³lÃ³ koncertanyagbÃ³l\,  rÃ¡adÃ¡sul kÃ©t ven
 dÃ©ggel is kiegÃ©szÃ¼lnek: ApÃ¡ti JÃ¡nos zongoramÅ±vÃ©sszel Ã©s BÃ­rÃ³ Eszt
 er Ã©nekesnÅ‘vel. RÃ¡adÃ¡s\nhttps://momkult.hu/events/hot-jazz-band-eloszil
 veszteri-koncert-2/
URL:https://momkult.hu/events/hot-jazz-band-eloszilveszteri-koncert-2/
END:VEVENT
END:VCALENDAR