BEGIN:VCALENDAR
VERSION:2.0
PRODID:-//eventon.com NONSGML v1.0//EN
CALSCALE:GREGORIAN
METHOD:PUBLISH
BEGIN:VEVENT
UID:69e4f34c49aa5
DTSTAMP:20260419T152252Z
DTSTART:20200107T190000Z
DTEND:20200107T210000Z
LOCATION:
SUMMARY:Francia â€“ Orosz Operaest
DESCRIPTION:BoÃ¯ldieu\,  Halevy\,  Berlioz\,  Meyerbeer\,  Massenet\,  Prok
 ofjev\,  Rachmaninov\,  Csajkovszkij\,  Rimszkij-Korszakov Ã©s Glinka operÃ
 ¡ibÃ³l hangzanak el rÃ©szletek szÃ³lÃ³ban Ã©s duettben\,  Karina Desbordes 
 szoprÃ¡n Ã©s CsordÃ¡s KlÃ¡ra mezzoszoprÃ¡n elÅ‘adÃ¡sÃ¡ban. Az estÃ©n hangsz
 eren kÃ­sÃ©r Harazdy MiklÃ³s zongoramÅ±vÃ©sz. Karina Desbordes &#8211; szop
 rÃ¡n CsordÃ¡s KlÃ¡ra &#8211; mezzoszoprÃ¡n Harazdy MiklÃ³s &#8211; zongora 
 BoÃ¯ldieu: La Dame Blanche\,  Duett:[..]\nhttps://momkult.hu/events/francia
 -orosz-operaest/
URL:https://momkult.hu/events/francia-orosz-operaest/
END:VEVENT
END:VCALENDAR