BEGIN:VCALENDAR
VERSION:2.0
PRODID:-//eventon.com NONSGML v1.0//EN
CALSCALE:GREGORIAN
METHOD:PUBLISH
BEGIN:VEVENT
UID:69e9038cefe60
DTSTAMP:20260422T172116Z
DTSTART:20200520T170000Z
DTEND:20200520T183000Z
LOCATION:
SUMMARY:Hitel-est
DESCRIPTION:A Kormány 46/2020. (III.16.) Korm. rendelete alapján a MOM Ku
 lturális Központ Nonprofit Kft tagintézményei\,  valamint az üzemeltet
 ésében álló telephelyek\,  mint közművelődési intézmények pillana
 tnyilag látogatási tilalom alatt állnak. A Hitel-est elmarad. &#8212;&#8
 212; Közreműködik: Papp Endre Elmarad\nhttps://momkult.hu/events/hitel-e
 st-12/
URL:https://momkult.hu/events/hitel-est-12/
END:VEVENT
END:VCALENDAR