BEGIN:VCALENDAR
VERSION:2.0
PRODID:-//eventon.com NONSGML v1.0//EN
CALSCALE:GREGORIAN
METHOD:PUBLISH
BEGIN:VEVENT
UID:69e9140154cd3
DTSTAMP:20260422T183129Z
DTSTART:20200325T180000Z
DTEND:20200325T193000Z
LOCATION:
SUMMARY:Hitel-est
DESCRIPTION:A Kormány 46/2020. (III.16.) Korm. rendelete alapján a MOM Ku
 lturális Központ Nonprofit Kft tagintézményei\,  valamint az üzemeltet
 ésében álló telephelyek\,  mint közművelődési intézmények pillana
 tnyilag látogatási tilalom alatt állnak. Közreműködik: Papp Endre Elm
 arad\nhttps://momkult.hu/events/hitel-est-10/
URL:https://momkult.hu/events/hitel-est-10/
END:VEVENT
END:VCALENDAR