BEGIN:VCALENDAR
VERSION:2.0
PRODID:-//eventon.com NONSGML v1.0//EN
CALSCALE:GREGORIAN
METHOD:PUBLISH
BEGIN:VEVENT
UID:69e80e7b2acd0
DTSTAMP:20260421T235539Z
DTSTART:20210922T160000Z
DTEND:20210922T173000Z
LOCATION:
SUMMARY:Hitel-est
DESCRIPTION:Közreműködik: Papp Endre\nhttps://momkult.hu/events/hitel-es
 t-9/
URL:https://momkult.hu/events/hitel-est-9/
END:VEVENT
END:VCALENDAR