BEGIN:VCALENDAR
VERSION:2.0
PRODID:-//eventon.com NONSGML v1.0//EN
CALSCALE:GREGORIAN
METHOD:PUBLISH
BEGIN:VEVENT
UID:69e9718563d81
DTSTAMP:20260423T011029Z
DTSTART:20200108T180000Z
DTEND:20200108T193000Z
LOCATION:
SUMMARY:Hitel-est
DESCRIPTION:Közreműködik: Papp Endre\nhttps://momkult.hu/events/hitel-es
 t-8/
URL:https://momkult.hu/events/hitel-est-8/
END:VEVENT
END:VCALENDAR