BEGIN:VCALENDAR
VERSION:2.0
PRODID:-//eventon.com NONSGML v1.0//EN
CALSCALE:GREGORIAN
METHOD:PUBLISH
BEGIN:VEVENT
UID:69e97072bf8a3
DTSTAMP:20260423T010554Z
DTSTART:20200119T103000Z
DTEND:20200119T113000Z
LOCATION:
SUMMARY:Hangszerek világa
DESCRIPTION:Balázs János Kossuth-díjas zongoraművész hangszerbemutató
  koncertje gyerekeknek.\nhttps://momkult.hu/events/hangszerek-vilaga-3/
URL:https://momkult.hu/events/hangszerek-vilaga-3/
END:VEVENT
END:VCALENDAR