BEGIN:VCALENDAR
VERSION:2.0
PRODID:-//eventon.com NONSGML v1.0//EN
CALSCALE:GREGORIAN
METHOD:PUBLISH
BEGIN:VEVENT
UID:69e99bfc9bf34
DTSTAMP:20260423T041140Z
DTSTART:20191204T180000Z
DTEND:20191204T193000Z
LOCATION:
SUMMARY:Hitel-est
DESCRIPTION:Zöldfülű történészek\,  viharvert irodalmárok – avagy 
 történelem alul- és felülnézetbőlLéka Géza Nagy Gábor Papp Endre S
 zikra János Tevely Arató György\nhttps://momkult.hu/events/hitel-est-7/
URL:https://momkult.hu/events/hitel-est-7/
END:VEVENT
END:VCALENDAR