BEGIN:VCALENDAR
VERSION:2.0
PRODID:-//eventon.com NONSGML v1.0//EN
CALSCALE:GREGORIAN
METHOD:PUBLISH
BEGIN:VEVENT
UID:69e924701ddeb
DTSTAMP:20260422T194136Z
DTSTART:20200305T190000Z
DTEND:20200305T210000Z
LOCATION:
SUMMARY:Az ünnepek protokollja – Görög Ibolya Előadása
DESCRIPTION:Görög Ibolya előadása az ünnepek üzleti protokolljának s
 zabályairól. Példákkal kitér az ajándékozás\,  a céges partik\,  a
 z ünnepélyes alkalmak szervezésére\,  étkezési\,  öltözködési és
  viselkedési kérdéseire. Megtudhatjuk\,  hogy a formális eseményeken t
 álalt gyümölcsök közül melyiket illik kézzel enni\,  melyik kerülen
 dő\,  kinek illik parfümöt ajándékozni\,  milyen virágból hány szá
 las csokrot kell készíttetni\,  és[..]\nhttps://momkult.hu/events/az-unn
 epek-protokollja-gorog-ibolya-eloadasa/
URL:https://momkult.hu/events/az-unnepek-protokollja-gorog-ibolya-eloadasa/
END:VEVENT
END:VCALENDAR