BEGIN:VCALENDAR
VERSION:2.0
PRODID:-//eventon.com NONSGML v1.0//EN
CALSCALE:GREGORIAN
METHOD:PUBLISH
BEGIN:VEVENT
UID:69e94bb2cb990
DTSTAMP:20260422T222906Z
DTSTART:20200208T190000Z
DTEND:20200208T210000Z
LOCATION:
SUMMARY:Hetvenkedő kettő | Vámos Miklós önálló estje
DESCRIPTION:Sokak kérésére ráadás. &#8222;Január 29-én születtem\, 
  nekem is hihetetlen &#8211; hetven éve. Ez alkalomból mesélek az ötsor
 os versekről (limerick)\,  a hosszú életről\,  a rövid észről\,  a k
 özepes szerencséről\,  az egészséges halálról és a varázslatos hé
 tköznapokról.&#8221; Minden jegy elkelt\nhttps://momkult.hu/events/hetven
 kedo-ketto-vamos-miklos-onallo-estje/
URL:https://momkult.hu/events/hetvenkedo-ketto-vamos-miklos-onallo-estje/
END:VEVENT
END:VCALENDAR