BEGIN:VCALENDAR
VERSION:2.0
PRODID:-//eventon.com NONSGML v1.0//EN
CALSCALE:GREGORIAN
METHOD:PUBLISH
BEGIN:VEVENT
UID:69e8edfa4cf34
DTSTAMP:20260422T154914Z
DTSTART:20200614T150000Z
DTEND:20200614T180000Z
LOCATION:
SUMMARY:Nosztalgia társastánc
DESCRIPTION:Tánc nosztalgikus dallamokra. Minden alkalommal táncbemutató
  nyugdíjas\,  amatőr táncosokkal. Standard táncok\,  latin táncok\,  s
 wing\,  rock ’n’ roll. Táncbemutatók között és után: össztánc! 
 Elmarad\nhttps://momkult.hu/events/nosztalgia-tarsastanc-17/
URL:https://momkult.hu/events/nosztalgia-tarsastanc-17/
END:VEVENT
END:VCALENDAR