BEGIN:VCALENDAR
VERSION:2.0
PRODID:-//eventon.com NONSGML v1.0//EN
CALSCALE:GREGORIAN
METHOD:PUBLISH
BEGIN:VEVENT
UID:69e9038cefe72
DTSTAMP:20260422T172116Z
DTSTART:20200510T150000Z
DTEND:20200510T180000Z
LOCATION:
SUMMARY:Nosztalgia társastánc
DESCRIPTION:A Kormány 46/2020. (III.16.) Korm. rendelete alapján a MOM Ku
 lturális Központ Nonprofit Kft tagintézményei\,  valamint az üzemeltet
 ésében álló telephelyek\,  mint közművelődési intézmények pillana
 tnyilag látogatási tilalom alatt állnak. A Nosztalgia társastánc elmar
 ad. &#8212;&#8211; Tánc nosztalgikus dallamokra. Minden alkalommal táncbe
 mutató nyugdíjas\,  amatőr táncosokkal. Standard táncok\,  latin tánc
 ok\,  swing\,  rock ’n’ roll. Táncbemutatók[..]\nhttps://momkult.hu/e
 vents/nosztalgia-tarsastanc-16/
URL:https://momkult.hu/events/nosztalgia-tarsastanc-16/
END:VEVENT
END:VCALENDAR