BEGIN:VCALENDAR
VERSION:2.0
PRODID:-//eventon.com NONSGML v1.0//EN
CALSCALE:GREGORIAN
METHOD:PUBLISH
BEGIN:VEVENT
UID:69e99dc5cc363
DTSTAMP:20260423T041917Z
DTSTART:20191202
DTEND:20191203
LOCATION:
SUMMARY:Karácsonyi kiállítás
DESCRIPTION:Kiállítás karácsonyi hangulatot megidéző fotókból.\nhtt
 ps://momkult.hu/events/karacsonyi-kiallitas/
URL:https://momkult.hu/events/karacsonyi-kiallitas/
END:VEVENT
END:VCALENDAR