BEGIN:VCALENDAR
VERSION:2.0
PRODID:-//eventon.com NONSGML v1.0//EN
CALSCALE:GREGORIAN
METHOD:PUBLISH
BEGIN:VEVENT
UID:69e9732103c69
DTSTAMP:20260423T011721Z
DTSTART:20200202T113000Z
DTEND:20200202T123000Z
LOCATION:
SUMMARY:Maszkabál | Gryllus Vilmos
DESCRIPTION:Egy maszkabálon sok-sok különös alakot rejtenek a jelmezek.
  Róluk énekel Gryllus Vilmos. Minden jegy elkelt\nhttps://momkult.hu/even
 ts/maszkabal-gryllus-vilmos-20200202-2/
URL:https://momkult.hu/events/maszkabal-gryllus-vilmos-20200202-2/
END:VEVENT
END:VCALENDAR