BEGIN:VCALENDAR
VERSION:2.0
PRODID:-//eventon.com NONSGML v1.0//EN
CALSCALE:GREGORIAN
METHOD:PUBLISH
BEGIN:VEVENT
UID:69e8c9e59f6ad
DTSTAMP:20260422T131517Z
DTSTART:20200828T150000Z
DTEND:20200828T170000Z
LOCATION:
SUMMARY:Az illúzió mesterei - 2020
DESCRIPTION:Az előadás új időpontban\,  2020. 08. 28-án kerül megrend
 ezésre. (eredeti időpont: 2020. 03. 27.\,  pótelőadás: 2020. 08.28.) N
 ew York\,  Peking\,  Dubai\,  Las Vegas\,  Monte Carlo és Tokió után új
 ra Budapesten Az illúzió mesterei! Világhírű bűvészek és az ország
  legjobb illuzionistái együtt\,  egy vadonatúj műsorban. Az előző év
 ekben rendezett\,  nagy sikerű[..]\nhttps://momkult.hu/events/az-illuzio-m
 esterei-2020-11/
URL:https://momkult.hu/events/az-illuzio-mesterei-2020-11/
END:VEVENT
END:VCALENDAR