BEGIN:VCALENDAR
VERSION:2.0
PRODID:-//eventon.com NONSGML v1.0//EN
CALSCALE:GREGORIAN
METHOD:PUBLISH
BEGIN:VEVENT
UID:69e8c7ddf0eb0
DTSTAMP:20260422T130637Z
DTSTART:20200901T180000Z
DTEND:20200901T203000Z
LOCATION:
SUMMARY:Az illúzió mesterei - 2020
DESCRIPTION:Az előadás új időpontban\,  2020. 09. 01-én kerül megrend
 ezésre. (eredeti időpont: 2020. 03. 22. 18:30\,  pótelőadás: 2020. 09.
 01. 19:00) New York\,  Peking\,  Dubai\,  Las Vegas\,  Monte Carlo és Toki
 ó után újra Budapesten Az illúzió mesterei! Világhírű bűvészek é
 s az ország legjobb illuzionistái együtt\,  egy vadonatúj műsorban. Az
  előző években rendezett\, [..]\nhttps://momkult.hu/events/az-illuzio-me
 sterei-2020-9/
URL:https://momkult.hu/events/az-illuzio-mesterei-2020-9/
END:VEVENT
END:VCALENDAR