BEGIN:VCALENDAR
VERSION:2.0
PRODID:-//eventon.com NONSGML v1.0//EN
CALSCALE:GREGORIAN
METHOD:PUBLISH
BEGIN:VEVENT
UID:69e8da6103fc2
DTSTAMP:20260422T142537Z
DTSTART:20200820T150000Z
DTEND:20200820T173000Z
LOCATION:
SUMMARY:Az illúzió mesterei - 2020
DESCRIPTION:Az előadás új időpontban\,  2020. 08. 20-án (16:00) kerül
  megrendezésre. (eredeti időpont: 2020. 03. 22. 14:30\,  pótelőadás: 2
 020. 08.20. 16:00) A Kormány 46/2020. (III.16.) Korm. rendelete alapján a
  MOM Kulturális Központ Nonprofit Kft tagintézményei\,  valamint az üz
 emeltetésében álló telephelyek\,  mint közművelődési intézmények 
 pillanatnyilag látogatási tilalom alatt állnak. New York\,  Peking\, [..
 ]\nhttps://momkult.hu/events/az-illuzio-mesterei-2020-8/
URL:https://momkult.hu/events/az-illuzio-mesterei-2020-8/
END:VEVENT
END:VCALENDAR