BEGIN:VCALENDAR
VERSION:2.0
PRODID:-//eventon.com NONSGML v1.0//EN
CALSCALE:GREGORIAN
METHOD:PUBLISH
BEGIN:VEVENT
UID:69e938cd378d0
DTSTAMP:20260422T210829Z
DTSTART:20200222T180000Z
DTEND:20200222T193000Z
LOCATION:
SUMMARY:NagyÁrpi – Ráskó Eszter önálló estje
DESCRIPTION:Ráskó Eszter A Dumaszínház társulatának tagja. Pszicholó
 gus\,  Szexuálpszichológus\,  HR Manager\,  Szabolcs megye önjelölt üd
 vöskéje\,  megrögzött élménykereső\,  enyhén narcisztikus és szoci
 álisan túl kompatibilis személy. Stresszhelyzetben számos esetben mutat
 ja Tourette szindróma jeleit\,  gátlástalansággal vegyes figyelmetlens
 ge gyakran sodorja olyan helyzetekbe\,  melyekből csak órákig tartó sm
 sezéssel tudja kivágni magát. A szinti pop\,  a trash[..]\nhttps://momku
 lt.hu/events/nagyarpi-rasko-eszter-onallo-estje/
URL:https://momkult.hu/events/nagyarpi-rasko-eszter-onallo-estje/
END:VEVENT
END:VCALENDAR