BEGIN:VCALENDAR
VERSION:2.0
PRODID:-//eventon.com NONSGML v1.0//EN
CALSCALE:GREGORIAN
METHOD:PUBLISH
BEGIN:VEVENT
UID:69e9b382ce22a
DTSTAMP:20260423T055202Z
DTSTART:20191124T140000Z
DTEND:20191124T152000Z
LOCATION:
SUMMARY:Masha és a Medve | Karácsonyi Kaland
DESCRIPTION:„Masha nyughatatlan kislány\,  aki mindig tele van energiáv
 al\,  s nem bír a fenekén megülni. Így aztán nem csoda\,  hogy barátj
 ával\,  a lustácska medvével folyton elképesztő bonyodalomba keveredik
 . Ezúttal egy fantasztikus karácsonyi kalandos nyomozásban találják ma
 gukat Rózival\,  a malaccal\,  nyuszival\,  a farkastestvérekkel és egy 
 pingvinnel. A történetben szerepel még Kétkedőssy professzor\, [..]\nh
 ttps://momkult.hu/events/masha-es-a-medve-karacsonyi-kaland-20191124-2/
URL:https://momkult.hu/events/masha-es-a-medve-karacsonyi-kaland-20191124-2/
END:VEVENT
END:VCALENDAR