BEGIN:VCALENDAR
VERSION:2.0
PRODID:-//eventon.com NONSGML v1.0//EN
CALSCALE:GREGORIAN
METHOD:PUBLISH
BEGIN:VEVENT
UID:69e9c39f1bd1f
DTSTAMP:20260423T070047Z
DTSTART:20191109T190000Z
DTEND:20191109T200000Z
LOCATION:
SUMMARY:Radnóti- és Ady-versek
DESCRIPTION:Versek életről-halálról Ady 100  (1919. január 27.) – R
 adnóti 75 (1944. november 9.) Radnóti- és Ady-versek Kuncz László elő
 adásában. Kuncz László vers- és énekmondó műsora\nhttps://momkult.h
 u/events/radnoti-es-ady-versek-2/
URL:https://momkult.hu/events/radnoti-es-ady-versek-2/
END:VEVENT
END:VCALENDAR