BEGIN:VCALENDAR
VERSION:2.0
PRODID:-//eventon.com NONSGML v1.0//EN
CALSCALE:GREGORIAN
METHOD:PUBLISH
BEGIN:VEVENT
UID:69e9c39a07858
DTSTAMP:20260423T070042Z
DTSTART:20191120T180000Z
DTEND:20191120T193000Z
LOCATION:
SUMMARY:Hitel-est
DESCRIPTION:Ablonczy László: A Nemzeti varázskörében című könyvéne
 k bemutatója\,  valamint az Utassy József-díj átadása. Közreműködik
 : Papp Endre Arató György Utassyné Horváth Erzsébet\nhttps://momkult.h
 u/events/hitel-est-20191120/
URL:https://momkult.hu/events/hitel-est-20191120/
END:VEVENT
END:VCALENDAR