BEGIN:VCALENDAR
VERSION:2.0
PRODID:-//eventon.com NONSGML v1.0//EN
CALSCALE:GREGORIAN
METHOD:PUBLISH
BEGIN:VEVENT
UID:69e985e62fa46
DTSTAMP:20260423T023726Z
DTSTART:20191213T193000Z
DTEND:20191213T210000Z
LOCATION:
SUMMARY:Dimák Patrik és zenekara | Hegyvidéki Smooth Jazz Klub
DESCRIPTION:A zenekart tehetséges\,  lelkes fiatalok alkotják\,  akik bud
 apesti zeneművészeti középiskolák kiemelkedő tanulói. A csapat vezet
 ője\,  gitárosa és dalszerzője Dimák Patrik\,  Balogh Roland világhí
 rű jazz-gitáros növendéke. A zenekar billentyűse és dalszerzője Beja
 n Norbert\,  aki fellépett már többek között Király Lindával és Fre
 ddievel\,  valamint több alkalommal meghívott vendégként állt színpad
 ra a Random[..]\nhttps://momkult.hu/events/dimak-patrik-es-zenekara-hegyvid
 eki-smooth-jazz-klub/
URL:https://momkult.hu/events/dimak-patrik-es-zenekara-hegyvideki-smooth-jazz-klub/
END:VEVENT
END:VCALENDAR