BEGIN:VCALENDAR
VERSION:2.0
PRODID:-//eventon.com NONSGML v1.0//EN
CALSCALE:GREGORIAN
METHOD:PUBLISH
BEGIN:VEVENT
UID:69ecb82b5fd89
DTSTAMP:20260425T124843Z
DTSTART:20181106T181500Z
DTEND:20181106T201500Z
LOCATION:
SUMMARY:A világ körtáncai
DESCRIPTION:Válogatás a világ népeinek legszebb körtáncaiból minden 
 szerdán 18.15–19.45-ig. Balkáni\,  breton\,  ír\,  izraeli\,  hazai\, 
  és a világ minden tájáról származó néptáncok\,  valamint szakrál
 is és meditációs táncok\,  mindig más összeállításban. Női csopor
 t\,  partner és előképzettség nem szükséges. Minden lépést együtt 
 tanulunk meg. Örömteli együttlét\,  egészségmegőrző mozgás. Időse
 bbeknek is ajánlott. Bármikor lehet[..]\nhttps://momkult.hu/events/a-vila
 g-kortancai-20191106/
URL:https://momkult.hu/events/a-vilag-kortancai-20191106/
END:VEVENT
END:VCALENDAR