BEGIN:VCALENDAR
VERSION:2.0
PRODID:-//eventon.com NONSGML v1.0//EN
CALSCALE:GREGORIAN
METHOD:PUBLISH
BEGIN:VEVENT
UID:69e9b382ce22a
DTSTAMP:20260423T055202Z
DTSTART:20191201T180000Z
DTEND:20191201T193000Z
LOCATION:
SUMMARY:Száz perc száz emberért | Beregszászi Olga és Barátai
DESCRIPTION:Beregszászi Olga és Barátai 16. Jótékonysági koncertje a 
 kárpátaljai nehéz sorsú családok megsegítésére Fővédnök: Schmitt
  Pál Védnökök: Mádl Dalma\,  Schmittné Makray Katalin Köszöntőt mo
 nd: Bocskor Andrea\,  az Európai Parlament képviselője\,  Kárpátalja B
 abják Zoltán\,  Beregszász polgármestere Közreműködnek: Credo Versé
 neklő Együttes Kárpátalja\,  Ungvár Duna Néptánc Együttes Ninh Duc 
 Hoang Long\,  énekes Pál[..]\nhttps://momkult.hu/events/szaz-perc-szaz-em
 berert-beregszaszi-olga-es-baratai/
URL:https://momkult.hu/events/szaz-perc-szaz-emberert-beregszaszi-olga-es-baratai/
END:VEVENT
END:VCALENDAR