BEGIN:VCALENDAR
VERSION:2.0
PRODID:-//eventon.com NONSGML v1.0//EN
CALSCALE:GREGORIAN
METHOD:PUBLISH
BEGIN:VEVENT
UID:69e98695244c4
DTSTAMP:20260423T024021Z
DTSTART:20191228T190000Z
DTEND:20191228T203000Z
LOCATION:
SUMMARY:KarÃ¡csonyi KeringÅ‘
DESCRIPTION:A nemzetkÃ¶zi hÃ­rÅ± szimfonikus zenekart BogÃ¡r IstvÃ¡n alapÃ­
 totta 1986-ban. A zenekar\,  alakulÃ¡sÃ¡t kÃ¶vetÅ‘en\,  hosszÃº Ã©veken Ã¡t
  csak kÃ¼lfÃ¶ldÃ¶n lÃ©pett fel. MagyarorszÃ¡gon az 1993-ban indult FerencvÃ
 ¡rosi Ãœnnepi JÃ¡tÃ©kok rendezvÃ©nysorozat Ã¡llandÃ³ fellÃ©pÅ‘je lett a zen
 ekar\,  valamint szÃ¡mos templomi koncertet\,  operaelÅ‘adÃ¡st Ã©s szabadtÃ
 ©ri koncertet adott. BogÃ¡r IstvÃ¡n halÃ¡la utÃ¡n\,  2007 Ã³ta\,  a zenekar
 [..]\nhttps://momkult.hu/events/karacsonyi-keringo/
URL:https://momkult.hu/events/karacsonyi-keringo/
END:VEVENT
END:VCALENDAR