BEGIN:VCALENDAR
VERSION:2.0
PRODID:-//eventon.com NONSGML v1.0//EN
CALSCALE:GREGORIAN
METHOD:PUBLISH
BEGIN:VEVENT
UID:69e98695202ff
DTSTAMP:20260423T024021Z
DTSTART:20191222T150000Z
DTEND:20191222T170000Z
LOCATION:
SUMMARY:Budapest Bár | Karácsonyi Koncert
DESCRIPTION:&#8222;Semmiképpen ne gyere el a Budapest Bár karácsonyi kon
 certjére\,  hiszen még ki kell vasalni a függönyt\,  meg kell sütni a 
 tizedikféle süteményt\,  el kell menni a piacra három kiló pontyért\,
   venni kell még két csomag karácsonyi díszt\,  egy kiló szaloncukrot 
 és be kell szerezni négy pár zoknit a nagypapának. Kinek[..]\nhttps://m
 omkult.hu/events/budapest-bar-karacsonyi-koncert-delutani/
URL:https://momkult.hu/events/budapest-bar-karacsonyi-koncert-delutani/
END:VEVENT
END:VCALENDAR