BEGIN:VCALENDAR
VERSION:2.0
PRODID:-//eventon.com NONSGML v1.0//EN
CALSCALE:GREGORIAN
METHOD:PUBLISH
BEGIN:VEVENT
UID:69e4f71f0a6b8
DTSTAMP:20260419T153911Z
DTSTART:20191209T200000Z
DTEND:20191209T213000Z
LOCATION:
SUMMARY:Time After Time â€“ JÃ³tÃ©konysÃ¡gi Koncert | Get Closer Concerts
DESCRIPTION:Kedves LÃ¡togatÃ³k! A koncert kezdÃ©si ideje 19.00 Ã³rÃ¡rÃ³l 20
 .00 Ã³rÃ¡ra vÃ¡ltozott. Az esetleges kellemetlensÃ©gekÃ©rt elnÃ©zÃ©sÃ¼ket k
 Ã©rjÃ¼k. MegÃ©rtÃ©sÃ¼ket kÃ¶szÃ¶njÃ¼k. &#8212; &#8212; &#8212; EsszenciÃ¡li
 s vÃ¡logatÃ¡s a Rockâ€™Nâ€™Roll\,  Funky\,  Rythm&amp;Blues Ã©s West Coast 
 stÃ­lus ismert slÃ¡gereibÅ‘l\,  a 60-as Ã©vektÅ‘l napjainkig. A Cseh TamÃ¡s
  dalait feldolgozÃ³ produkciÃ³t 2015 Ã³ta minden Ã©vben szÃ­npadra Ã¡llÃ­tÃ
 ³ GetCloser[..]\nhttps://momkult.hu/events/time-after-time-jotekonysagi-kon
 cert-get-closer-concerts/
URL:https://momkult.hu/events/time-after-time-jotekonysagi-koncert-get-closer-concerts/
END:VEVENT
END:VCALENDAR