BEGIN:VCALENDAR
VERSION:2.0
PRODID:-//eventon.com NONSGML v1.0//EN
CALSCALE:GREGORIAN
METHOD:PUBLISH
BEGIN:VEVENT
UID:69e9d68210b3c
DTSTAMP:20260423T082122Z
DTSTART:20191023T090000Z
DTEND:20191023T110000Z
LOCATION:
SUMMARY:Megmaradni | Emlékezés 1956-ra
DESCRIPTION:1956 ősze\,  Magyarország. A 20. század Európájának kimag
 asló napjai. Amikor a nemzet egyként kiáltott\,  munkás és értelmisé
 gi együtt állt ki a közös ügyért. Amikor megcsillant a remény\,  hog
 y a nemzet saját kezébe veheti sorsát. Amikor megszülettek a szabadság
  hősei\,  és mártírokká lettek. „A megújulni vágyás nem elrugaszk
 odás a hagyományoktól. A[..]\nhttps://momkult.hu/events/megmaradni-emlek
 ezes-1956-ra/
URL:https://momkult.hu/events/megmaradni-emlekezes-1956-ra/
END:VEVENT
END:VCALENDAR